BEGIN:VCALENDAR
VERSION:2.0
PRODID:-//ChamberMaster//Event Calendar 2.0//EN
METHOD:PUBLISH
X-PUBLISHED-TTL:P3D
REFRESH-INTERVAL:P3D
CALSCALE:GREGORIAN
BEGIN:VEVENT
DTSTART:20201202T133000Z
DTEND:20201202T150000Z
X-MICROSOFT-CDO-ALLDAYEVENT:FALSE
SUMMARY:Biennial Legislative Affairs Forum 2020
DESCRIPTION:Registration Reminder - 2020 Biennial Legislative Forum\n\nThe Garland Chamber of Commerce and its Legislative Affairs Committee invite you to the 7th Biennial Legislative Affairs Virtual Forum on Wednesday\, December 2\, 2020. The event will provide the community and local leaders an opportunity to meet and engage with the legislators who represent the Garland area as well as to hear directly from elected legislators as they discuss issues and agendas for the upcoming 87th Legislative Session.
X-ALT-DESC;FMTTYPE=text/html:Registration Reminder - 2020 Biennial Legislative Forum<br />\nThe Garland Chamber of Commerce and its Legislative Affairs Committee invite you to the 7th Biennial Legislative Affairs Virtual Forum on Wednesday\, December 2\, 2020. <span>The event will provide the community and local leaders an opportunity to meet and engage with the legislators who represent the Garland area as well as to h</span>ear directly from elected legislators as they discuss issues and agendas for the upcoming 87th Legislative Session.&nbsp\;<br />\n&nbsp\;
LOCATION:Zoom Communications
UID:e.2096.3543
SEQUENCE:3
DTSTAMP:20260421T232439Z
URL:http://network.garlandchamber.com/events/details/biennial-legislative-affairs-forum-2020-3543
END:VEVENT

END:VCALENDAR
