BEGIN:VCALENDAR
VERSION:2.0
PRODID:-//ChamberMaster//Event Calendar 2.0//EN
METHOD:PUBLISH
X-PUBLISHED-TTL:P3D
REFRESH-INTERVAL:P3D
CALSCALE:GREGORIAN
BEGIN:VEVENT
DTSTART:20230228T134500Z
DTEND:20230228T150000Z
X-MICROSOFT-CDO-ALLDAYEVENT:FALSE
SUMMARY:BOLD Speaker Series February 2023
DESCRIPTION:The Garland Chamber\, and sponsored by Texas Security Bank\, is proud to be hosting the BOLD Speaker Series. This business speaker series will be a monthly\, continuing education forum for business owners. The series is designed to enhance knowledge in critical business disciplines - especially for the independent business owner.\n\n\n\n\n\nAbout the Sponsor:\n\nTexas Security Bank invests more resources in business education for owner managed businesses than other banks. Their focus on continuing education is truly unique and needed. They Elevate the Champions of Free Enterprise in an era when little differentiation among banks exists.\n\n \n\nFebruary Topic: Business Taxes\n\nSpeaker: TBD
X-ALT-DESC;FMTTYPE=text/html:<p style="color: rgb(0\, 0\, 0)\; font-family: Verdana\, Arial\, Helvetica\, sans-serif\; font-size: 10px\;">The Garland Chamber\, and sponsored by&nbsp\;Texas Security Bank\, is proud to be hosting the BOLD Speaker Series. This&nbsp\;business speaker series will be a monthly\, continuing education forum for business owners. The series is designed to enhance knowledge in critical business disciplines - especially for the independent business owner.<br />\n<br />\n<br />\n<strong>About the Sponsor:</strong><br />\nTexas Security Bank invests more resources in business education for owner managed businesses than other banks. Their focus on continuing education is truly unique and needed. They Elevate the Champions of Free Enterprise in an era when little differentiation among banks exists.<br />\n&nbsp\;</p>\n\n<p style="color: rgb(0\, 0\, 0)\; font-family: Verdana\, Arial\, Helvetica\, sans-serif\; font-size: 10px\;"><strong>February</strong><strong>&nbsp\;Topic:</strong>&nbsp\;Business Taxes<br />\n<strong>Speaker:</strong>&nbsp\;TBD</p>\n
LOCATION:Location: Zoom Video Communications Zoom link included in confirmation email after registration.
UID:e.2096.3798
SEQUENCE:3
DTSTAMP:20260424T040519Z
URL:http://network.garlandchamber.com/events/details/bold-speaker-series-february-2023-3798
END:VEVENT

END:VCALENDAR
