BEGIN:VCALENDAR
VERSION:2.0
PRODID:-//ChamberMaster//Event Calendar 2.0//EN
METHOD:PUBLISH
X-PUBLISHED-TTL:P3D
REFRESH-INTERVAL:P3D
CALSCALE:GREGORIAN
BEGIN:VEVENT
DTSTART;VALUE=DATE:20241213
DTEND;VALUE=DATE:20241214
TRANSP:TRANSPARENT
X-MICROSOFT-CDO-ALLDAYEVENT:TRUE
SUMMARY:DCMA Advisory Council Meeting
DESCRIPTION:End Of Year\n\nTBD
X-ALT-DESC;FMTTYPE=text/html:End Of Year<br />\nTBD
LOCATION:
UID:e.2096.3884
SEQUENCE:3
DTSTAMP:20260424T040941Z
URL:http://network.garlandchamber.com/events/details/dcma-advisory-council-meeting-3884
END:VEVENT

END:VCALENDAR
