BEGIN:VCALENDAR
VERSION:2.0
PRODID:-//ChamberMaster//Event Calendar 2.0//EN
METHOD:PUBLISH
X-PUBLISHED-TTL:P3D
REFRESH-INTERVAL:P3D
CALSCALE:GREGORIAN
BEGIN:VEVENT
DTSTART:20220120T133000Z
DTEND:20220120T150000Z
X-MICROSOFT-CDO-ALLDAYEVENT:FALSE
SUMMARY:Direct Connect January 2022
DESCRIPTION:Join us for the exciting\, fast-paced morning networking event\, Direct Connect! Our networking format is designed to help you initiate meaningful\, strategic conversations within moments of meeting a new connection. We want to help you expand your network through Direct Connect.\n\n\n\nHow it works virtually: We will utilize a virtual meeting platform\, Zoom. After you have registered for the event you will receive a link to join the meeting. We will still utilize smaller groups for networking\, but it will all be virtual. Check your computer for a web camera and microphone\, and you are good to go. Once you click the link\, your computer will download Zoom and connect you to our meeting. You can also join the meeting through your phone\, tablet\, or traditional calling in. The room opens at 7:30 am\, and the networking starts at 8 am.
X-ALT-DESC;FMTTYPE=text/html:Join us for the exciting\, fast-paced morning networking event\, Direct Connect! Our networking format is designed to help you initiate meaningful\, strategic conversations within moments of meeting a new connection. We want to help you expand your network through Direct Connect.<br />\n<br />\nHow it works <u><strong>virtually</strong></u>: We will utilize a virtual meeting platform\, Zoom. After you have registered for the event you will receive a link to join the meeting. We will still utilize smaller groups for networking\, but it will all be virtual. Check your computer for a web camera and microphone\, and you are good to go. Once you click the link\, your computer will download Zoom and connect you to our meeting. You can also join the meeting through your phone\, tablet\, or traditional calling in. The room opens at 7:30 am\, and the networking starts at 8 am.<br />\n&nbsp\;
LOCATION:Zoom Communications
UID:e.2096.3714
SEQUENCE:3
DTSTAMP:20260421T084916Z
URL:http://network.garlandchamber.com/events/details/direct-connect-january-2022-3714
END:VEVENT

END:VCALENDAR
