BEGIN:VCALENDAR
VERSION:2.0
PRODID:-//ChamberMaster//Event Calendar 2.0//EN
METHOD:PUBLISH
X-PUBLISHED-TTL:P3D
REFRESH-INTERVAL:P3D
CALSCALE:GREGORIAN
BEGIN:VEVENT
DTSTART;VALUE=DATE:20260804
DTEND;VALUE=DATE:20260805
TRANSP:TRANSPARENT
X-MICROSOFT-CDO-ALLDAYEVENT:TRUE
SUMMARY:GHBA Workshop Aug
DESCRIPTION:Taller educativo 100 % en espa ol\, creado para empoderar y apoyar el crecimiento de los empresarios hispanos locales.
X-ALT-DESC;FMTTYPE=text/html:<span style="font-family:aptos light\,sans-serif\;"><span style="font-size:12.0pt\;">Taller educativo 100 % en espa&ntilde\;ol\, creado para empoderar y apoyar el crecimiento de los empresarios hispanos locales.</span></span>
LOCATION:625 Austin St\, Garland\, TX 75040
UID:e.2096.4064
SEQUENCE:3
DTSTAMP:20260421T131628Z
URL:http://network.garlandchamber.com/events/details/ghba-workshop-aug-4064
END:VEVENT

END:VCALENDAR
