BEGIN:VCALENDAR
VERSION:2.0
PRODID:-//ChamberMaster//Event Calendar 2.0//EN
METHOD:PUBLISH
X-PUBLISHED-TTL:P3D
REFRESH-INTERVAL:P3D
CALSCALE:GREGORIAN
BEGIN:VEVENT
DTSTART:20260602T173000Z
DTEND:20260602T190000Z
X-MICROSOFT-CDO-ALLDAYEVENT:FALSE
SUMMARY:GHBA Workshop June
DESCRIPTION:Taller educativo 100 % en espa ol\, creado para empoderar y apoyar el crecimiento de los empresarios hispanos locales.
X-ALT-DESC;FMTTYPE=text/html:<span style="font-family:aptos light\,sans-serif\;"><span style="font-size:12.0pt\;">Taller educativo 100 % en espa&ntilde\;ol\, creado para empoderar y apoyar el crecimiento de los empresarios hispanos locales.</span></span>
LOCATION:625 Austin St\, Garland\, TX 75040
UID:e.2096.4063
SEQUENCE:3
DTSTAMP:20260421T155705Z
URL:http://network.garlandchamber.com/events/details/ghba-workshop-june-4063
END:VEVENT

END:VCALENDAR
