BEGIN:VCALENDAR
VERSION:2.0
PRODID:-//ChamberMaster//Event Calendar 2.0//EN
METHOD:PUBLISH
X-PUBLISHED-TTL:P3D
REFRESH-INTERVAL:P3D
CALSCALE:GREGORIAN
BEGIN:VEVENT
DTSTART;VALUE=DATE:20210610
DTEND;VALUE=DATE:20210611
TRANSP:TRANSPARENT
X-MICROSOFT-CDO-ALLDAYEVENT:TRUE
SUMMARY:Propel Service Event - June 2021
DESCRIPTION:Propel Service Event
X-ALT-DESC;FMTTYPE=text/html:Propel Service Event
LOCATION:Location: TBD
UID:e.2096.3660
SEQUENCE:3
DTSTAMP:20260421T084950Z
URL:http://network.garlandchamber.com/events/details/propel-service-event-june-2021-3660
END:VEVENT

END:VCALENDAR
