BEGIN:VCALENDAR
VERSION:2.0
PRODID:-//ChamberMaster//Event Calendar 2.0//EN
METHOD:PUBLISH
X-PUBLISHED-TTL:P3D
REFRESH-INTERVAL:P3D
CALSCALE:GREGORIAN
BEGIN:VEVENT
DTSTART:20260831T163000Z
DTEND:20260831T180000Z
X-MICROSOFT-CDO-ALLDAYEVENT:FALSE
SUMMARY:Signature Luncheon: State of the District 2026
DESCRIPTION:Come and be a part of our standout luncheon focused on the State of the District! Dr. Ricardo Lopez\, the Superintendent of Garland ISD\, will be delivering a comprehensive update on the current state of the school district. This event is your chance to stay well-informed and actively participate in the exciting developments within the district.\n\n\n\nSponsor: GISD Education Foundation\n\nCatered by: TBD
X-ALT-DESC;FMTTYPE=text/html:<span style="color: rgb(55\, 65\, 81)\; font-family: Söhne\, ui-sans-serif\, system-ui\, -apple-system\, &quot\;Segoe UI&quot\;\, Roboto\, Ubuntu\, Cantarell\, &quot\;Noto Sans&quot\;\, sans-serif\, &quot\;Helvetica Neue&quot\;\, Arial\, &quot\;Apple Color Emoji&quot\;\, &quot\;Segoe UI Emoji&quot\;\, &quot\;Segoe UI Symbol&quot\;\, &quot\;Noto Color Emoji&quot\;\; font-size: 16px\; white-space-collapse: preserve\;">Come and be a part of our standout luncheon focused on the State of the District! Dr. Ricardo Lopez\, the Superintendent of Garland ISD\, will be delivering a comprehensive update on the current state of the school district. This event is your chance to stay well-informed and actively participate in the exciting developments within the district.<br />\n<br />\nSponsor: GISD Education Foundation<br />\nCatered by: TBD </span><br />\n&nbsp\;
LOCATION:Dallas College Garland Center 675 W. Walnut St. Garland\, TX 75040
UID:e.2096.4068
SEQUENCE:3
DTSTAMP:20260421T125548Z
URL:http://network.garlandchamber.com/events/details/signature-luncheon-state-of-the-district-2026-4068
END:VEVENT

END:VCALENDAR
