BEGIN:VCALENDAR
VERSION:2.0
PRODID:-//ChamberMaster//Event Calendar 2.0//EN
METHOD:PUBLISH
X-PUBLISHED-TTL:P3D
REFRESH-INTERVAL:P3D
CALSCALE:GREGORIAN
BEGIN:VEVENT
DTSTART:20200831T163000Z
DTEND:20200831T180000Z
X-MICROSOFT-CDO-ALLDAYEVENT:FALSE
SUMMARY:SPARK On-the-Go August 2020
DESCRIPTION:Sponsor: Texas Security Bank\n\nTopic: State of District\n\nSpeaker: Dr. Ricardo Lopez
X-ALT-DESC;FMTTYPE=text/html:<span style="font-size:14px\;"><span style="color:#00704A\;"><strong>Sponsor: </strong></span><a href="https://www.texassecuritybank.com/">Texas Security Bank</a><br />\n<span style="color:#00704A\;"><strong>Topic:</strong> </span>State of District<br />\n<span style="color:#00704A\;"><strong>Speaker: </strong></span>Dr. Ricardo Lopez</span><br />\n&nbsp\;
LOCATION:Zoom Communications
UID:e.2096.3533
SEQUENCE:3
DTSTAMP:20260422T170201Z
URL:http://network.garlandchamber.com/events/details/spark-on-the-go-august-2020-3533
END:VEVENT

END:VCALENDAR
