BEGIN:VCALENDAR
VERSION:2.0
PRODID:-//ChamberMaster//Event Calendar 2.0//EN
METHOD:PUBLISH
X-PUBLISHED-TTL:P3D
REFRESH-INTERVAL:P3D
CALSCALE:GREGORIAN
BEGIN:VEVENT
DTSTART:20240710T200000Z
DTEND:20240710T233000Z
X-MICROSOFT-CDO-ALLDAYEVENT:FALSE
SUMMARY:WBe Empowerment Event July 2024
DESCRIPTION:Join us for a Community Impact Day at Trusted World followed by Happy Hour! This event provides a unique opportunity for women in business to come together\, connect\, and network while making a positive impact. Don't miss this chance to build meaningful connections and contribute to the greater good.\n\n\n\nAttendees can expect to learn about Trusted World and come together to create motivational cards that are included in care packages for those in need. Attendees will then have an opportunity to network further during Happy Hour which will take place at an off-site location. \n\n\nTrusted World provides clothing\, food\, and personal care items\, so people and organizations working with those who are facing situational poverty can focus on their core mission and not spend time trying find the much-needed resources. Trusted World provides this service to our partners at no cost.
X-ALT-DESC;FMTTYPE=text/html:<div>Join us for a Community Impact Day at Trusted World followed by Happy Hour!&nbsp\;This event provides a unique opportunity for women in business to come together\, connect\, and network while making a positive impact. Don&#39\;t miss this chance to build meaningful connections and contribute to the greater good.<br />\n<br />\nAttendees can expect to learn about Trusted World and come together to create motivational cards that are included in care packages for those in need. Attendees will then have an opportunity to network further during Happy Hour which will take place at an off-site location.&nbsp\;</div>\n<br />\n<a href="https://trustedworld.org/">Trusted World</a> provides clothing\, food\, and personal care items\, so people and organizations working with those who are facing situational poverty can focus on their core mission and not spend time trying find the much-needed resources. Trusted World provides this service to our partners at no cost.&nbsp\;<br />\n<br />\n&nbsp\;
LOCATION:
UID:e.2096.3868
SEQUENCE:3
DTSTAMP:20260421T085127Z
URL:http://network.garlandchamber.com/events/details/wbe-empowerment-event-july-2024-3868
END:VEVENT

END:VCALENDAR
