BEGIN:VCALENDAR
VERSION:2.0
PRODID:-//ChamberMaster//Event Calendar 2.0//EN
METHOD:PUBLISH
X-PUBLISHED-TTL:P3D
REFRESH-INTERVAL:P3D
CALSCALE:GREGORIAN
BEGIN:VEVENT
DTSTART:20081003T160000Z
DTEND:20081003T050000Z
X-MICROSOFT-CDO-ALLDAYEVENT:FALSE
SUMMARY:1000Bulbs.com Ribbon Cutting Ceremony
DESCRIPTION:
X-ALT-DESC;FMTTYPE=text/html:
LOCATION:1000Bulbs.com
UID:e.2096.578
SEQUENCE:3
DTSTAMP:20260424T132047Z
URL:https://network.garlandchamber.com/events/details/1000bulbs-com-ribbon-cutting-ceremony-10-03-2008-578
END:VEVENT

END:VCALENDAR
