BEGIN:VCALENDAR
VERSION:2.0
PRODID:-//ChamberMaster//Event Calendar 2.0//EN
METHOD:PUBLISH
X-PUBLISHED-TTL:P3D
REFRESH-INTERVAL:P3D
CALSCALE:GREGORIAN
BEGIN:VEVENT
DTSTART:20100731T050000Z
DTEND:20100731T050000Z
X-MICROSOFT-CDO-ALLDAYEVENT:FALSE
SUMMARY:14th Annual Summer Jam - Sponsored by: Citizens Dev. Center
DESCRIPTION:
X-ALT-DESC;FMTTYPE=text/html:
LOCATION:Verizon Theatre in Grand Prairie\, TX
UID:e.2096.560
SEQUENCE:3
DTSTAMP:20260423T081253Z
URL:https://network.garlandchamber.com/events/details/14th-annual-summer-jam-sponsored-by-citizens-dev-center-07-31-2010-560
END:VEVENT

END:VCALENDAR
