BEGIN:VCALENDAR
VERSION:2.0
PRODID:-//ChamberMaster//Event Calendar 2.0//EN
METHOD:PUBLISH
X-PUBLISHED-TTL:P3D
REFRESH-INTERVAL:P3D
CALSCALE:GREGORIAN
BEGIN:VEVENT
DTSTART:20130426T190000Z
DTEND:20130426T210000Z
X-MICROSOFT-CDO-ALLDAYEVENT:FALSE
SUMMARY:19th Annual Buyer Vendor Mixer
DESCRIPTION:
X-ALT-DESC;FMTTYPE=text/html:
LOCATION:Garland Fire Administration\, Room 417 Auditorium
UID:e.2096.1176
SEQUENCE:3
DTSTAMP:20260421T090432Z
URL:https://network.garlandchamber.com/events/details/19th-annual-buyer-vendor-mixer-04-26-2013-1176
END:VEVENT

END:VCALENDAR
