BEGIN:VCALENDAR
VERSION:2.0
PRODID:-//ChamberMaster//Event Calendar 2.0//EN
METHOD:PUBLISH
X-PUBLISHED-TTL:P3D
REFRESH-INTERVAL:P3D
CALSCALE:GREGORIAN
BEGIN:VEVENT
DTSTART:20061128T133000Z
DTEND:20061128T150000Z
X-MICROSOFT-CDO-ALLDAYEVENT:FALSE
SUMMARY:19th Annual Leadership Garland Prayer Breakfast (2006)
DESCRIPTION:Each year for the last 19 years\, the business and leadership community of Garland has gathered early on a weekday morning for the Garland Chamber of Commerce Prayer Breakfast sponsored by Leadership Garland.  This year?s event promises to be meaningful\, inspirational\, and entertaining with Ms. Ebby Halliday as the keynote speaker.
X-ALT-DESC;FMTTYPE=text/html:<div>\n<p align="center" class="MsoNormal" style="margin: 0in 0in 0pt\; text-align: center\;"><span style="color: rgb(255\, 153\, 0)\; font-family: &quot\;Franklin Gothic Heavy&quot\;\; font-size: 6pt\;"><strong><font size="4"><font color="#542b9f"><span style="font-family: &quot\;Times New Roman&quot\;\; font-size: 12pt\; mso-fareast-language: EN-US\; mso-fareast-font-family: &quot\;Times New Roman&quot\;\; mso-ansi-language: EN-US\; mso-bidi-language: AR-SA\; mso-bidi-font-family: &quot\;Times New Roman&quot\;\;">Each year for the last&nbsp\;19&nbsp\;years\, the business and leadership community of </span><!--?xml:namespace prefix = st1 ns = "urn:schemas-microsoft-com:office:smarttags" /--><st1:city><st1:place><span style="font-family: &quot\;Times New Roman&quot\;\; font-size: 12pt\; mso-fareast-language: EN-US\; mso-fareast-font-family: &quot\;Times New Roman&quot\;\; mso-ansi-language: EN-US\; mso-bidi-language: AR-SA\; mso-bidi-font-family: &quot\;Times New Roman&quot\;\;">Garland</span></st1:place></st1:city><span style="font-family: &quot\;Times New Roman&quot\;\; font-size: 12pt\; mso-fareast-language: EN-US\; mso-fareast-font-family: &quot\;Times New Roman&quot\;\; mso-ansi-language: EN-US\; mso-bidi-language: AR-SA\; mso-bidi-font-family: &quot\;Times New Roman&quot\;\;"> has gathered early on a weekday morning for the Garland Chamber of Commerce Prayer Breakfast sponsored by Leadership Garland.<span style="mso-spacerun: yes\;">&nbsp\; </span>This year?s event promises to be meaningful\, inspirational\, and entertaining with Ms. Ebby Halliday as the keynote speaker.</span></font></font></strong></span></p>\n</div>\n
LOCATION:The Atrium at the Patty Granville Arts Center
UID:e.2096.325
SEQUENCE:3
DTSTAMP:20260426T001835Z
URL:https://network.garlandchamber.com/events/details/19th-annual-leadership-garland-prayer-breakfast-2006-11-28-2006-325
END:VEVENT

END:VCALENDAR
