BEGIN:VCALENDAR
VERSION:2.0
PRODID:-//ChamberMaster//Event Calendar 2.0//EN
METHOD:PUBLISH
X-PUBLISHED-TTL:P3D
REFRESH-INTERVAL:P3D
CALSCALE:GREGORIAN
BEGIN:VEVENT
DTSTART:20130302T200000Z
DTEND:20130302T220000Z
X-MICROSOFT-CDO-ALLDAYEVENT:FALSE
SUMMARY:1st Annual STEM Festival
DESCRIPTION:
X-ALT-DESC;FMTTYPE=text/html:
LOCATION:Harmony Science Academy
UID:e.2096.1161
SEQUENCE:3
DTSTAMP:20260421T102757Z
URL:https://network.garlandchamber.com/events/details/1st-annual-stem-festival-03-02-2013-1161
END:VEVENT

END:VCALENDAR
