BEGIN:VCALENDAR
VERSION:2.0
PRODID:-//ChamberMaster//Event Calendar 2.0//EN
METHOD:PUBLISH
X-PUBLISHED-TTL:P3D
REFRESH-INTERVAL:P3D
CALSCALE:GREGORIAN
BEGIN:VEVENT
DTSTART:20060911T050000Z
DTEND:20060911T050000Z
X-MICROSOFT-CDO-ALLDAYEVENT:FALSE
SUMMARY:2006 Golf Volunteers
DESCRIPTION:2006 Golf Volunteers
X-ALT-DESC;FMTTYPE=text/html:2006 Golf Volunteers
LOCATION:
UID:e.2096.1620
SEQUENCE:3
DTSTAMP:20260426T014537Z
URL:https://network.garlandchamber.com/events/details/2006-golf-volunteers-09-11-2006-1620
END:VEVENT

END:VCALENDAR
