BEGIN:VCALENDAR
VERSION:2.0
PRODID:-//ChamberMaster//Event Calendar 2.0//EN
METHOD:PUBLISH
X-PUBLISHED-TTL:P3D
REFRESH-INTERVAL:P3D
CALSCALE:GREGORIAN
BEGIN:VEVENT
DTSTART:20060522T050000Z
DTEND:20061215T060000Z
X-MICROSOFT-CDO-ALLDAYEVENT:FALSE
SUMMARY:2006 Monthly Luncheon Sponsorships
DESCRIPTION:2006 Monthly Luncheon Sponsorships
X-ALT-DESC;FMTTYPE=text/html:2006 Monthly Luncheon Sponsorships
LOCATION:The Atrium at the Granville Arts Center
UID:e.2096.1594
SEQUENCE:3
DTSTAMP:20260425T224043Z
URL:https://network.garlandchamber.com/events/details/2006-monthly-luncheon-sponsorships-05-22-2006-1594
END:VEVENT

END:VCALENDAR
