BEGIN:VCALENDAR
VERSION:2.0
PRODID:-//ChamberMaster//Event Calendar 2.0//EN
METHOD:PUBLISH
X-PUBLISHED-TTL:P3D
REFRESH-INTERVAL:P3D
CALSCALE:GREGORIAN
BEGIN:VEVENT
DTSTART:20070317T150000Z
DTEND:20070317T070000Z
X-MICROSOFT-CDO-ALLDAYEVENT:FALSE
SUMMARY:2007 Senior Spring Show
DESCRIPTION:Come out to enjoy your favorite golden oldies. There will be prizes\, entertainment and contests.\n\nFREE ADMISSION\n\nEntertainment by the Blue Diamond Trio and Backstage!\n\nMeet all of the KAAM Radio Personalities!
X-ALT-DESC;FMTTYPE=text/html:Come out to enjoy your favorite golden oldies. There will be prizes\, entertainment and contests.\n\nFREE ADMISSION\n\nEntertainment by the Blue Diamond Trio and Backstage!\n\nMeet all of the KAAM Radio Personalities!
LOCATION:DoubleTree Hotel
UID:e.2096.29
SEQUENCE:3
DTSTAMP:20260425T162911Z
URL:https://network.garlandchamber.com/events/details/2007-senior-spring-show-03-17-2007-29
END:VEVENT

END:VCALENDAR
