BEGIN:VCALENDAR
VERSION:2.0
PRODID:-//ChamberMaster//Event Calendar 2.0//EN
METHOD:PUBLISH
X-PUBLISHED-TTL:P3D
REFRESH-INTERVAL:P3D
CALSCALE:GREGORIAN
BEGIN:VEVENT
DTSTART:20090310T190000Z
DTEND:20090310T210000Z
X-MICROSOFT-CDO-ALLDAYEVENT:FALSE
SUMMARY:2009 Buyer & Vendor Mixer
DESCRIPTION:
X-ALT-DESC;FMTTYPE=text/html:
LOCATION:The Atrium at the Granville Arts Center
UID:e.2096.622
SEQUENCE:3
DTSTAMP:20260424T064603Z
URL:https://network.garlandchamber.com/events/details/2009-buyer-vendor-mixer-03-10-2009-622
END:VEVENT

END:VCALENDAR
