BEGIN:VCALENDAR
VERSION:2.0
PRODID:-//ChamberMaster//Event Calendar 2.0//EN
METHOD:PUBLISH
X-PUBLISHED-TTL:P3D
REFRESH-INTERVAL:P3D
CALSCALE:GREGORIAN
BEGIN:VEVENT
DTSTART:20100312T190000Z
DTEND:20100312T220000Z
X-MICROSOFT-CDO-ALLDAYEVENT:FALSE
SUMMARY:2010 Buyer & Vendor Mixer
DESCRIPTION:
X-ALT-DESC;FMTTYPE=text/html:
LOCATION:GISD Special Events Center Ballroom
UID:e.2096.754
SEQUENCE:3
DTSTAMP:20260423T134115Z
URL:https://network.garlandchamber.com/events/details/2010-buyer-vendor-mixer-03-12-2010-754
END:VEVENT

END:VCALENDAR
