BEGIN:VCALENDAR
VERSION:2.0
PRODID:-//ChamberMaster//Event Calendar 2.0//EN
METHOD:PUBLISH
X-PUBLISHED-TTL:P3D
REFRESH-INTERVAL:P3D
CALSCALE:GREGORIAN
BEGIN:VEVENT
DTSTART:20100327T050000Z
DTEND:20100327T050000Z
X-MICROSOFT-CDO-ALLDAYEVENT:FALSE
SUMMARY:2010 Musical Roast of Mayor Jones
DESCRIPTION:2010 Musical Roast of Mayor Jones
X-ALT-DESC;FMTTYPE=text/html:2010 Musical Roast of Mayor Jones
LOCATION:The Atrium at the Granville Arts Center
UID:e.2096.2107
SEQUENCE:3
DTSTAMP:20260423T134239Z
URL:https://network.garlandchamber.com/events/details/2010-musical-roast-of-mayor-jones-03-27-2010-2107
END:VEVENT

END:VCALENDAR
