BEGIN:VCALENDAR
VERSION:2.0
PRODID:-//ChamberMaster//Event Calendar 2.0//EN
METHOD:PUBLISH
X-PUBLISHED-TTL:P3D
REFRESH-INTERVAL:P3D
CALSCALE:GREGORIAN
BEGIN:VEVENT
DTSTART:20110311T200000Z
DTEND:20110311T220000Z
X-MICROSOFT-CDO-ALLDAYEVENT:FALSE
SUMMARY:2011 Buyer & Vendor Mixer
DESCRIPTION:
X-ALT-DESC;FMTTYPE=text/html:
LOCATION:The Atrium
UID:e.2096.904
SEQUENCE:3
DTSTAMP:20260422T222341Z
URL:https://network.garlandchamber.com/events/details/2011-buyer-vendor-mixer-03-11-2011-904
END:VEVENT

END:VCALENDAR
