BEGIN:VCALENDAR
VERSION:2.0
PRODID:-//ChamberMaster//Event Calendar 2.0//EN
METHOD:PUBLISH
X-PUBLISHED-TTL:P3D
REFRESH-INTERVAL:P3D
CALSCALE:GREGORIAN
BEGIN:VEVENT
DTSTART:20110101T060000Z
DTEND:20111231T060000Z
X-MICROSOFT-CDO-ALLDAYEVENT:FALSE
SUMMARY:2011 Networking Event Sponsors
DESCRIPTION:2011 Networking Event Sponsors
X-ALT-DESC;FMTTYPE=text/html:2011 Networking Event Sponsors
LOCATION:Varies
UID:e.2096.2217
SEQUENCE:3
DTSTAMP:20260422T075331Z
URL:https://network.garlandchamber.com/events/details/2011-networking-event-sponsors-01-01-2011-2217
END:VEVENT

END:VCALENDAR
