BEGIN:VCALENDAR
VERSION:2.0
PRODID:-//ChamberMaster//Event Calendar 2.0//EN
METHOD:PUBLISH
X-PUBLISHED-TTL:P3D
REFRESH-INTERVAL:P3D
CALSCALE:GREGORIAN
BEGIN:VEVENT
DTSTART:20120125T133000Z
DTEND:20120125T150000Z
X-MICROSOFT-CDO-ALLDAYEVENT:FALSE
SUMMARY:2012 Annual Property Taxes Prospectus...Changes Ahead
DESCRIPTION:RSVP to ColliersDallasEvents@colliers.com.
X-ALT-DESC;FMTTYPE=text/html:<DIV style="FONT-FAMILY: Arial"><FONT size=5>RSVP to&nbsp\;</FONT><A href="mailto:ColliersDallasEvents@colliers.com"><FONT size=5>ColliersDallasEvents@colliers.com</FONT></A><FONT size=5>.</FONT></DIV>
LOCATION:TBA
UID:e.2096.985
SEQUENCE:3
DTSTAMP:20260422T065318Z
URL:https://network.garlandchamber.com/events/details/2012-annual-property-taxes-prospectus-changes-ahead-01-25-2012-985
END:VEVENT

END:VCALENDAR
