BEGIN:VCALENDAR
VERSION:2.0
PRODID:-//ChamberMaster//Event Calendar 2.0//EN
METHOD:PUBLISH
X-PUBLISHED-TTL:P3D
REFRESH-INTERVAL:P3D
CALSCALE:GREGORIAN
BEGIN:VEVENT
DTSTART:20120321T180000Z
DTEND:20120321T210000Z
X-MICROSOFT-CDO-ALLDAYEVENT:FALSE
SUMMARY:2012 Buyer & Vendor Mixer
DESCRIPTION:
X-ALT-DESC;FMTTYPE=text/html:
LOCATION:Curtis Culwell Center (Formerly the Special Events Center)
UID:e.2096.1006
SEQUENCE:3
DTSTAMP:20260422T035524Z
URL:https://network.garlandchamber.com/events/details/2012-buyer-vendor-mixer-03-21-2012-1006
END:VEVENT

END:VCALENDAR
