BEGIN:VCALENDAR
VERSION:2.0
PRODID:-//ChamberMaster//Event Calendar 2.0//EN
METHOD:PUBLISH
X-PUBLISHED-TTL:P3D
REFRESH-INTERVAL:P3D
CALSCALE:GREGORIAN
BEGIN:VEVENT
DTSTART:20130101T060000Z
DTEND:20130101T060000Z
X-MICROSOFT-CDO-ALLDAYEVENT:FALSE
SUMMARY:2013 Direct Connect Sponsors
DESCRIPTION:2013 Direct Connect Sponsors
X-ALT-DESC;FMTTYPE=text/html:2013 Direct Connect Sponsors
LOCATION:Hyatt Place Dallas/ Garland
UID:e.2096.2525
SEQUENCE:3
DTSTAMP:20260421T131340Z
URL:https://network.garlandchamber.com/events/details/2013-direct-connect-sponsors-01-01-2013-2525
END:VEVENT

END:VCALENDAR
