BEGIN:VCALENDAR
VERSION:2.0
PRODID:-//ChamberMaster//Event Calendar 2.0//EN
METHOD:PUBLISH
X-PUBLISHED-TTL:P3D
REFRESH-INTERVAL:P3D
CALSCALE:GREGORIAN
BEGIN:VEVENT
DTSTART:20130101T173000Z
DTEND:20130101T190000Z
X-MICROSOFT-CDO-ALLDAYEVENT:FALSE
SUMMARY:2013 Luncheon Sponsors
DESCRIPTION:
X-ALT-DESC;FMTTYPE=text/html:
LOCATION:The Atrium at the Granville
UID:e.2096.1004
SEQUENCE:3
DTSTAMP:20260421T144835Z
URL:https://network.garlandchamber.com/events/details/2013-luncheon-sponsors-01-01-2013-1004
END:VEVENT

END:VCALENDAR
