BEGIN:VCALENDAR
VERSION:2.0
PRODID:-//ChamberMaster//Event Calendar 2.0//EN
METHOD:PUBLISH
X-PUBLISHED-TTL:P3D
REFRESH-INTERVAL:P3D
CALSCALE:GREGORIAN
BEGIN:VEVENT
DTSTART:20141101T130000Z
DTEND:20141101T140000Z
X-MICROSOFT-CDO-ALLDAYEVENT:FALSE
SUMMARY:2014 Direct Connect Sponsors
DESCRIPTION:
X-ALT-DESC;FMTTYPE=text/html:
LOCATION:Garland Chamber of Commerce
UID:e.2096.2747
SEQUENCE:3
DTSTAMP:20260420T044150Z
URL:https://network.garlandchamber.com/events/details/2014-direct-connect-sponsors-11-01-2014-2747
END:VEVENT

END:VCALENDAR
