BEGIN:VCALENDAR
VERSION:2.0
PRODID:-//ChamberMaster//Event Calendar 2.0//EN
METHOD:PUBLISH
X-PUBLISHED-TTL:P3D
REFRESH-INTERVAL:P3D
CALSCALE:GREGORIAN
BEGIN:VEVENT
DTSTART:20140101T173000Z
DTEND:20140101T190000Z
X-MICROSOFT-CDO-ALLDAYEVENT:FALSE
SUMMARY:2014 Luncheon Sponsors
DESCRIPTION:
X-ALT-DESC;FMTTYPE=text/html:
LOCATION:The Atrium at the Granville
UID:e.2096.1199
SEQUENCE:3
DTSTAMP:20260420T200543Z
URL:https://network.garlandchamber.com/events/details/2014-luncheon-sponsors-01-01-2014-1199
END:VEVENT

END:VCALENDAR
