BEGIN:VCALENDAR
VERSION:2.0
PRODID:-//ChamberMaster//Event Calendar 2.0//EN
METHOD:PUBLISH
X-PUBLISHED-TTL:P3D
REFRESH-INTERVAL:P3D
CALSCALE:GREGORIAN
BEGIN:VEVENT
DTSTART:20231208T180000Z
DTEND:20231208T190000Z
X-MICROSOFT-CDO-ALLDAYEVENT:FALSE
SUMMARY:2023 Member Appreciation
DESCRIPTION:
X-ALT-DESC;FMTTYPE=text/html:
LOCATION:Dallas College Garland Center 675 W. Walnut Street Garland\, TX 75040
UID:e.2096.3842
SEQUENCE:3
DTSTAMP:20260425T102110Z
URL:https://network.garlandchamber.com/events/details/2023-member-appreciation-3842
END:VEVENT

END:VCALENDAR
