BEGIN:VCALENDAR
VERSION:2.0
PRODID:-//ChamberMaster//Event Calendar 2.0//EN
METHOD:PUBLISH
X-PUBLISHED-TTL:P3D
REFRESH-INTERVAL:P3D
CALSCALE:GREGORIAN
BEGIN:VEVENT
DTSTART:20100911T050000Z
DTEND:20100911T050000Z
X-MICROSOFT-CDO-ALLDAYEVENT:FALSE
SUMMARY:20th Annual NAACP Freedom Fund Auction and Brunch
DESCRIPTION:20th Annual NAACP Freedom Fund Auction and Brunch
X-ALT-DESC;FMTTYPE=text/html:20th Annual NAACP Freedom Fund Auction and Brunch
LOCATION:Doubletree Hotel
UID:e.2096.2174
SEQUENCE:3
DTSTAMP:20260423T052715Z
URL:https://network.garlandchamber.com/events/details/20th-annual-naacp-freedom-fund-auction-and-brunch-09-11-2010-2174
END:VEVENT

END:VCALENDAR
