BEGIN:VCALENDAR
VERSION:2.0
PRODID:-//ChamberMaster//Event Calendar 2.0//EN
METHOD:PUBLISH
X-PUBLISHED-TTL:P3D
REFRESH-INTERVAL:P3D
CALSCALE:GREGORIAN
BEGIN:VEVENT
DTSTART:20120915T050000Z
DTEND:20120915T050000Z
X-MICROSOFT-CDO-ALLDAYEVENT:FALSE
SUMMARY:22nd Annual NAACP Freedom Fund Auction and Brunch
DESCRIPTION:22nd Annual NAACP Freedom Fund Auction and Brunch
X-ALT-DESC;FMTTYPE=text/html:22nd Annual NAACP Freedom Fund Auction and Brunch
LOCATION:Doubletree Hotel
UID:e.2096.2484
SEQUENCE:3
DTSTAMP:20260421T192614Z
URL:https://network.garlandchamber.com/events/details/22nd-annual-naacp-freedom-fund-auction-and-brunch-09-15-2012-2484
END:VEVENT

END:VCALENDAR
