BEGIN:VCALENDAR
VERSION:2.0
PRODID:-//ChamberMaster//Event Calendar 2.0//EN
METHOD:PUBLISH
X-PUBLISHED-TTL:P3D
REFRESH-INTERVAL:P3D
CALSCALE:GREGORIAN
BEGIN:VEVENT
DTSTART:20101209T133000Z
DTEND:20101209T150000Z
X-MICROSOFT-CDO-ALLDAYEVENT:FALSE
SUMMARY:23rd Annual Leadership Garland Prayer Breakfast (2010)
DESCRIPTION:
X-ALT-DESC;FMTTYPE=text/html:
LOCATION:The Atrium at the Granville Arts Center
UID:e.2096.847
SEQUENCE:3
DTSTAMP:20260423T011120Z
URL:https://network.garlandchamber.com/events/details/23rd-annual-leadership-garland-prayer-breakfast-2010-12-09-2010-847
END:VEVENT

END:VCALENDAR
