BEGIN:VCALENDAR
VERSION:2.0
PRODID:-//ChamberMaster//Event Calendar 2.0//EN
METHOD:PUBLISH
X-PUBLISHED-TTL:P3D
REFRESH-INTERVAL:P3D
CALSCALE:GREGORIAN
BEGIN:VEVENT
DTSTART:20111208T133000Z
DTEND:20111208T150000Z
X-MICROSOFT-CDO-ALLDAYEVENT:FALSE
SUMMARY:24th Annual Leadership Garland Prayer Breakfast (2011)
DESCRIPTION:On behalf of the Leadership Garland program\, the Garland Chamber of Commerce invites you to attend the 24th Annual Prayer Breakfast. \n\n \n\nDate: Thursday\, December 8\, 2011\n\nTime: 7:30 am - 9:00 am\n\nLocation: The Atrium at the Granville Arts Center\n\n300 N. Fifth St.\, Garland\, TX 75040\n\nKeynote Speaker: Esperanza "Hope" Andrade\, Texas Secretary of State\n\nTopic: "God Bless Texas - An Inspirastional Message of Hope"\n\nEntertainment provided by: Garland High School\n\nCost: $25 per person/$250 per table of 10\n\n \n\nPlease RSVP as soon as possible as space is limited. The deadline for registration is November 30th. \n\n \n\nAttendees are asked to bring a new\, unwrapped toy or Target gift card to benefit the Garland Fire Fighters Association toy drive. \n\n \n\nThank you for your support of the Garland Chamber of Commerce and its Leadership Garland program. For more information\, please visit our website at www.garlandchamber.com or contact:\n\n \n\nJami Manners\, project coordinator\n\nGarland Chamber of Commerce\n\njami.manners@garlandchamber.com\n\n469-326-7477
X-ALT-DESC;FMTTYPE=text/html:<div align="left"><font color="#000000">On behalf of the Leadership Garland program\, the Garland Chamber of Commerce invites you to attend the 24th Annual Prayer Breakfast. </font></div>\n\n<div align="left">&nbsp\;</div>\n\n<div align="left"><font color="#000000"><font color="#ff0000">Date:</font> Thursday\, December 8\, 2011</font></div>\n\n<div align="left"><font color="#000000"><font color="#ff0000">Time:</font> 7:30 am - 9:00 am</font></div>\n\n<div align="left"><font color="#000000"><font color="#ff0000">Location:</font> The Atrium at the Granville Arts Center</font></div>\n\n<div align="left"><font color="#000000">300 N. Fifth St.\, Garland\, TX 75040</font></div>\n\n<div align="left"><font color="#000000"><font color="#ff0000">Keynote Speaker:</font> Esperanza &quot\;Hope&quot\; Andrade\, Texas Secretary of State</font></div>\n\n<div align="left"><font color="#ff0000">Topic:</font> &quot\;God Bless Texas - An Inspirastional Message of Hope&quot\;</div>\n\n<div align="left"><font color="#ff0000">Entertainment provided by</font>: <font color="#000000">Garland High School</font></div>\n\n<div align="left"><font color="#ff0000">Cost:</font> <font color="#000000">$25 per person/$250 per table of 10</font></div>\n\n<div align="left">&nbsp\;</div>\n\n<div align="left"><font color="#000000">Please RSVP as soon as possible as space is limited. The deadline for registration is November 30th. </font></div>\n\n<div align="left">&nbsp\;</div>\n\n<div align="left"><font color="#000000">Attendees are asked to&nbsp\;bring a new\, unwrapped toy or Target gift card&nbsp\;to benefit the Garland Fire Fighters Association toy drive. </font></div>\n\n<div align="left">&nbsp\;</div>\n\n<div align="left"><font color="#000000">Thank you for your support of the Garland Chamber of Commerce and its Leadership Garland program. For more information\, please visit our website at </font><a href="http://www.garlandchamber.com"><font color="#000000">www.garlandchamber.com</font></a><font color="#000000"> or contact:</font></div>\n\n<div align="left">&nbsp\;</div>\n\n<div align="left"><font color="#000000">Jami Manners\, project coordinator</font></div>\n\n<div align="left"><font color="#000000">Garland Chamber of Commerce</font></div>\n\n<div align="left"><a href="mailto:jami.manners@garlandchamber.com"><font color="#000000">jami.manners@garlandchamber.com</font></a></div>\n\n<div align="left"><font color="#000000">469-326-7477</font></div>\n
LOCATION:Garland Cultural Arts Commission\, Inc.
UID:e.2096.959
SEQUENCE:3
DTSTAMP:20260422T075713Z
URL:https://network.garlandchamber.com/events/details/24th-annual-leadership-garland-prayer-breakfast-2011-12-08-2011-959
END:VEVENT

END:VCALENDAR
