BEGIN:VCALENDAR
VERSION:2.0
PRODID:-//ChamberMaster//Event Calendar 2.0//EN
METHOD:PUBLISH
X-PUBLISHED-TTL:P3D
REFRESH-INTERVAL:P3D
CALSCALE:GREGORIAN
BEGIN:VEVENT
DTSTART:20080912T140000Z
DTEND:20080912T220000Z
X-MICROSOFT-CDO-ALLDAYEVENT:FALSE
SUMMARY:24th Annual Partnership Golf Tournament
DESCRIPTION:
X-ALT-DESC;FMTTYPE=text/html:
LOCATION:Firewheel Golf Park
UID:e.2096.480
SEQUENCE:3
DTSTAMP:20260424T144547Z
URL:https://network.garlandchamber.com/events/details/24th-annual-partnership-golf-tournament-09-12-2008-480
END:VEVENT

END:VCALENDAR
