BEGIN:VCALENDAR
VERSION:2.0
PRODID:-//ChamberMaster//Event Calendar 2.0//EN
METHOD:PUBLISH
X-PUBLISHED-TTL:P3D
REFRESH-INTERVAL:P3D
CALSCALE:GREGORIAN
BEGIN:VEVENT
DTSTART:20121206T133000Z
DTEND:20121206T153000Z
X-MICROSOFT-CDO-ALLDAYEVENT:FALSE
SUMMARY:25th Annual Leadership Garland Prayer Breakfast (2012)
DESCRIPTION:On behalf of the Leadership Garland program\, the Garland Chamber of Commerce invites you to attend the 25th Annual Prayer Breakfast.\n\nDate: Thursday\, December 6\, 2011\n\nTime: 7:30 a.m. - 9:30 a.m.\n\nLocation: Curtis Culwell Center\n\n4999 Naaman Forest Blvd.\, Garland\, TX 75040\n\nCost: $35 per person or $350 per table of 10\n\n\n\nKeynote Speaker:\n\nClint Bruce\, Navy SEAL and Co-Founder of Carry the Load\n\nTopic: "Hometown Leaders"\n\nAdditional Details\n\nEntertainment provided by:\n\nEvergreen and the Coventry Reserve Signing Stars\n\nPlease RSVP as soon as possible as space is limited.\n\nFor additional information\, contact:\n\nJami Manners\, Project Director\n\nGarland Chamber of Commerce\n\njami.manners@garlandchamber.com   \n\n(469) 326-7477
X-ALT-DESC;FMTTYPE=text/html:<p>On behalf of the Leadership Garland program\, the Garland Chamber of Commerce invites you to attend the 25th Annual Prayer Breakfast.</p>\n\n<p><strong>Date:</strong> Thursday\, December 6\, 2011<br />\n<strong>Time:</strong> 7:30 a.m. - 9:30 a.m.<br />\n<strong>Location: </strong>Curtis Culwell Center<br />\n4999 Naaman Forest Blvd.\, Garland\, TX 75040<br />\n<strong>Cost:</strong> $35 per person or $350 per table of 10<br />\n<br />\n<strong>Keynote Speaker:</strong><br />\nClint Bruce\, Navy SEAL and Co-Founder of Carry the Load<br />\n<strong>Topic:</strong> &quot\;Hometown Leaders&quot\;<br />\n<a datafld="0:0" href="http://www.garlandchamber.com/events/prayer-breakfast">Additional Details</a></p>\n\n<p><strong>Entertainment provided by:</strong><br />\nEvergreen and the Coventry Reserve Signing Stars</p>\n\n<p>Please RSVP as soon as possible as space is limited.</p>\n\n<p>For additional information\, contact:<br />\nJami Manners\, Project Director<br />\nGarland Chamber of Commerce<br />\n<a href="mailto:jami.manners@garlandchamber.com">jami.manners@garlandchamber.com</a>&nbsp\; &nbsp\;<br />\n(469) 326-7477</p>\n
LOCATION:Curtis Culwell Center
UID:e.2096.1027
SEQUENCE:3
DTSTAMP:20260421T151537Z
URL:https://network.garlandchamber.com/events/details/25th-annual-leadership-garland-prayer-breakfast-2012-12-06-2012-1027
END:VEVENT

END:VCALENDAR
