BEGIN:VCALENDAR
VERSION:2.0
PRODID:-//ChamberMaster//Event Calendar 2.0//EN
METHOD:PUBLISH
X-PUBLISHED-TTL:P3D
REFRESH-INTERVAL:P3D
CALSCALE:GREGORIAN
BEGIN:VEVENT
DTSTART:20131205T133000Z
DTEND:20131205T150000Z
X-MICROSOFT-CDO-ALLDAYEVENT:FALSE
SUMMARY:26th Annual Leadership Garland Prayer Breakfast (2013)
DESCRIPTION:On behalf of the Leadership Garland program\, the Garland Chamber of Commerce invites you to attend the 26th Annual Prayer Breakfast.\n\nDate: Thursday\, December 5\, 2013\n\nTime: 7:30 a.m. - 9:30 a.m.\n\nLocation: The Atrium at the Granville Arts Center \n\n300 N. Fifth St.\, Garland\, TX 75040\n\nCost: $35 per person or $350 per table of 10\n\n\n\nKeynote Speaker: \n\nTo Be Announced \n\n\n\nPlease RSVP as soon as possible as space is limited.\n\nFor additional information\, contact:\n\nJami Manners\, Project Director\n\nGarland Chamber of Commerce\n\n jami.manners@garlandchamber.com   \n\n(469) 326-7477
X-ALT-DESC;FMTTYPE=text/html:<p>On behalf of the Leadership Garland program\, the Garland Chamber of Commerce invites you to attend the 26th Annual Prayer Breakfast.</p>\n\n<p><strong>Date:</strong> Thursday\, December 5\, 2013<br />\n<strong>Time:</strong> 7:30 a.m. - 9:30 a.m.<br />\n<strong>Location:&nbsp\;</strong>The Atrium at the Granville Arts Center&nbsp\;<br />\n300 N. Fifth St.\, Garland\, TX 75040<br />\n<strong>Cost:</strong> $35 per person or $350 per table of 10<br />\n<br />\n<strong>Keynote Speaker:</strong>&nbsp\;<br />\nTo Be Announced&nbsp\;<br />\n<br />\nPlease RSVP as soon as possible as space is limited.</p>\n\n<p>For additional information\, contact:<br />\nJami Manners\, Project Director<br />\nGarland Chamber of Commerce<br />\n&gt\;jami.manners@garlandchamber.com&nbsp\; &nbsp\;<br />\n(469) 326-7477</p>\n
LOCATION:The Atrium at the Granville Arts Center
UID:e.2096.1198
SEQUENCE:3
DTSTAMP:20260420T213911Z
URL:https://network.garlandchamber.com/events/details/26th-annual-leadership-garland-prayer-breakfast-2013-12-05-2013-1198
END:VEVENT

END:VCALENDAR
