BEGIN:VCALENDAR
VERSION:2.0
PRODID:-//ChamberMaster//Event Calendar 2.0//EN
METHOD:PUBLISH
X-PUBLISHED-TTL:P3D
REFRESH-INTERVAL:P3D
CALSCALE:GREGORIAN
BEGIN:VEVENT
DTSTART:20100917T140000Z
DTEND:20100917T210000Z
X-MICROSOFT-CDO-ALLDAYEVENT:FALSE
SUMMARY:26th Annual Partnership Golf Tournament
DESCRIPTION:
X-ALT-DESC;FMTTYPE=text/html:
LOCATION:Firewheel Golf Park
UID:e.2096.729
SEQUENCE:3
DTSTAMP:20260423T064827Z
URL:https://network.garlandchamber.com/events/details/26th-annual-partnership-golf-tournament-09-17-2010-729
END:VEVENT

END:VCALENDAR
