BEGIN:VCALENDAR
VERSION:2.0
PRODID:-//ChamberMaster//Event Calendar 2.0//EN
METHOD:PUBLISH
X-PUBLISHED-TTL:P3D
REFRESH-INTERVAL:P3D
CALSCALE:GREGORIAN
BEGIN:VEVENT
DTSTART:20141204T133000Z
DTEND:20141204T150000Z
X-MICROSOFT-CDO-ALLDAYEVENT:FALSE
SUMMARY:27th Annual Leadership Garland Prayer Breakfast (2014)
DESCRIPTION:
X-ALT-DESC;FMTTYPE=text/html:
LOCATION:The Atrium at the Granville Arts Center
UID:e.2096.1223
SEQUENCE:3
DTSTAMP:20260420T032947Z
URL:https://network.garlandchamber.com/events/details/27th-annual-leadership-garland-prayer-breakfast-2014-12-04-2014-1223
END:VEVENT

END:VCALENDAR
