BEGIN:VCALENDAR
VERSION:2.0
PRODID:-//ChamberMaster//Event Calendar 2.0//EN
METHOD:PUBLISH
X-PUBLISHED-TTL:P3D
REFRESH-INTERVAL:P3D
CALSCALE:GREGORIAN
BEGIN:VEVENT
DTSTART:20080724T050000Z
DTEND:20080726T050000Z
X-MICROSOFT-CDO-ALLDAYEVENT:FALSE
SUMMARY:2nd Annual ''Meet the Minimum'' Party
DESCRIPTION:Designer Merchandise.....Wholesale pricing.....Christmas delivery....
X-ALT-DESC;FMTTYPE=text/html:<DIV><FONT face=Tahoma>Designer Merchandise.....Wholesale pricing.....Christmas delivery....</FONT></DIV>
LOCATION:Sally J. Designs
UID:e.2096.443
SEQUENCE:3
DTSTAMP:20260424T171536Z
URL:https://network.garlandchamber.com/events/details/2nd-annual-meet-the-minimum-party-07-24-2008-443
END:VEVENT

END:VCALENDAR
