BEGIN:VCALENDAR
VERSION:2.0
PRODID:-//ChamberMaster//Event Calendar 2.0//EN
METHOD:PUBLISH
X-PUBLISHED-TTL:P3D
REFRESH-INTERVAL:P3D
CALSCALE:GREGORIAN
BEGIN:VEVENT
DTSTART:20150918T140000Z
DTEND:20150918T190000Z
X-MICROSOFT-CDO-ALLDAYEVENT:FALSE
SUMMARY:31st Annual Partnership Golf Tournament (2015)
DESCRIPTION:Thank you for joining the Garland Chamber of Commerce for its 31st Annual Partnership Golf Tournament\, sponsored by \n\nGP&L and Plastipak Packaging. \n\nLunch Provided by Outback Steakhouse and Sponsored by EST Group\, LLC.
X-ALT-DESC;FMTTYPE=text/html:<div align="center"><span style="font-size: 13.5pt"><span style="font-family: arial\, sans-serif"><span style="color: rgb(51\,51\,51)">Thank you for joining the Garland Chamber of Commerce for its 31st Annual Partnership Golf Tournament\, sponsored by&nbsp\;</span></span></span><br />\n<font size="4">GP&amp\;L&nbsp\;and Plastipak Packaging.&nbsp\;<br />\nLunch Provided by Outback Steakhouse and Sponsored by EST Group\, LLC.&nbsp\;</font></div>\n
LOCATION:
UID:e.2096.2648
SEQUENCE:3
DTSTAMP:20260419T131831Z
URL:https://network.garlandchamber.com/events/details/31st-annual-partnership-golf-tournament-2015-09-18-2015-2648
END:VEVENT

END:VCALENDAR
