BEGIN:VCALENDAR
VERSION:2.0
PRODID:-//ChamberMaster//Event Calendar 2.0//EN
METHOD:PUBLISH
X-PUBLISHED-TTL:P3D
REFRESH-INTERVAL:P3D
CALSCALE:GREGORIAN
BEGIN:VEVENT
DTSTART:20121011T050000Z
DTEND:20121011T050000Z
X-MICROSOFT-CDO-ALLDAYEVENT:FALSE
SUMMARY:3rd Annual Homecoming
DESCRIPTION:3rd Annual Homecoming
X-ALT-DESC;FMTTYPE=text/html:3rd Annual Homecoming
LOCATION:Firewheel Golf Park - Jerry Andrews Pavilion
UID:e.2096.2501
SEQUENCE:3
DTSTAMP:20260421T175427Z
URL:https://network.garlandchamber.com/events/details/3rd-annual-homecoming-10-11-2012-2501
END:VEVENT

END:VCALENDAR
