BEGIN:VCALENDAR
VERSION:2.0
PRODID:-//ChamberMaster//Event Calendar 2.0//EN
METHOD:PUBLISH
X-PUBLISHED-TTL:P3D
REFRESH-INTERVAL:P3D
CALSCALE:GREGORIAN
BEGIN:VEVENT
DTSTART:20110309T200000Z
DTEND:20110309T210000Z
X-MICROSOFT-CDO-ALLDAYEVENT:FALSE
SUMMARY:5 Ginormous Marketing Mistakes Webinar
DESCRIPTION:
X-ALT-DESC;FMTTYPE=text/html:
LOCATION:AT YOUR COMPUTER
UID:e.2096.906
SEQUENCE:3
DTSTAMP:20260422T221909Z
URL:https://network.garlandchamber.com/events/details/5-ginormous-marketing-mistakes-webinar-03-09-2011-906
END:VEVENT

END:VCALENDAR
