BEGIN:VCALENDAR
VERSION:2.0
PRODID:-//ChamberMaster//Event Calendar 2.0//EN
METHOD:PUBLISH
X-PUBLISHED-TTL:P3D
REFRESH-INTERVAL:P3D
CALSCALE:GREGORIAN
BEGIN:VEVENT
DTSTART:20100714T170000Z
DTEND:20100714T180000Z
X-MICROSOFT-CDO-ALLDAYEVENT:FALSE
SUMMARY:5 Ways to Increased Profits
DESCRIPTION:
X-ALT-DESC;FMTTYPE=text/html:<DIV>&nbsp\;</DIV>
LOCATION:Garland Chamber Office
UID:e.2096.808
SEQUENCE:3
DTSTAMP:20260423T081142Z
URL:https://network.garlandchamber.com/events/details/5-ways-to-increased-profits-07-14-2010-808
END:VEVENT

END:VCALENDAR
