BEGIN:VCALENDAR
VERSION:2.0
PRODID:-//ChamberMaster//Event Calendar 2.0//EN
METHOD:PUBLISH
X-PUBLISHED-TTL:P3D
REFRESH-INTERVAL:P3D
CALSCALE:GREGORIAN
BEGIN:VEVENT
DTSTART:20111119T060000Z
DTEND:20111210T060000Z
X-MICROSOFT-CDO-ALLDAYEVENT:FALSE
SUMMARY:5th Annual Hometown Holidays
DESCRIPTION:The 5th Annual Hometown Holidays at Firewheel Town Center will kick off the holiday season with the lighting of its 41-foot holiday tree.  \n\nFirewheel Town Center invites area shoppers and families to gather for fun holiday activities and the tree lighting celebration featuring Santa's Grand Parade. Enjoy family activities from 3:00 p.m. - 6:00 p.m.\, followed by Santa's Grand Parade from 6:00 p.m. to 7:00 p.m. Children will delight in marching bands\, holiday characters\, face painting and Santa Claus' grand arrival as he lights the Holiday Tree! \n\nThroughout the holiday season\,  entertainment at Firewheel Town Center will include live performances\, children's activities and holiday train and horse-drawn carriage rides.  All of these holiday activities\, combined with the outstanding selection of stores offered at Firewheel Town Center\, create a lasting impression and unique social experience that can't be matched by shopping online!  Create a tradition this year and bring the whole family to Firewheel Town Center to kick off the holidays. \n\nDATE: Nov. 19\, 2011\nCOST: Free and open to the community \n\n Saturday\, November 19\n         3 p.m. Family and children's activities                      \n         6 p.m. Santa's Grand Parade and the lighting of the tree \n         \n Complimentary Holiday Carriage Rides\n         5:00 - 8:00 p.m.\n         Saturday\, November 19 & 26\n         Saturday\, December 3 & 10\n\n Miniature Holiday Train Rides\n         2:00 p.m. to Dusk\n         Each day in the Park
X-ALT-DESC;FMTTYPE=text/html:The 5th Annual Hometown Holidays at Firewheel Town Center will kick off the holiday season with the lighting of its 41-foot holiday tree.  \n\nFirewheel Town Center invites area shoppers and families to gather for fun holiday activities and the tree lighting celebration featuring Santa's Grand Parade. Enjoy family activities from 3:00 p.m. - 6:00 p.m.\, followed by Santa's Grand Parade from 6:00 p.m. to 7:00 p.m. Children will delight in marching bands\, holiday characters\, face painting and Santa Claus' grand arrival as he lights the Holiday Tree! \n\nThroughout the holiday season\,  entertainment at Firewheel Town Center will include live performances\, children's activities and holiday train and horse-drawn carriage rides.  All of these holiday activities\, combined with the outstanding selection of stores offered at Firewheel Town Center\, create a lasting impression and unique social experience that can't be matched by shopping online!  Create a tradition this year and bring the whole family to Firewheel Town Center to kick off the holidays. \n\nDATE: Nov. 19\, 2011\nCOST: Free and open to the community \n\n Saturday\, November 19\n         3 p.m. Family and children's activities                      \n         6 p.m. Santa's Grand Parade and the lighting of the tree \n         \n Complimentary Holiday Carriage Rides\n         5:00 - 8:00 p.m.\n         Saturday\, November 19 & 26\n         Saturday\, December 3 & 10\n\n Miniature Holiday Train Rides\n         2:00 p.m. to Dusk\n         Each day in the Park\n\n
LOCATION:Firewheel Town Center
UID:e.2096.965
SEQUENCE:3
DTSTAMP:20260422T075549Z
URL:https://network.garlandchamber.com/events/details/5th-annual-hometown-holidays-11-19-2011-965
END:VEVENT

END:VCALENDAR
