BEGIN:VCALENDAR
VERSION:2.0
PRODID:-//ChamberMaster//Event Calendar 2.0//EN
METHOD:PUBLISH
X-PUBLISHED-TTL:P3D
REFRESH-INTERVAL:P3D
CALSCALE:GREGORIAN
BEGIN:VEVENT
DTSTART:20061107T220000Z
DTEND:20061108T000000Z
X-MICROSOFT-CDO-ALLDAYEVENT:FALSE
SUMMARY:''6 Steps to a Sucessful Business in 2007''
DESCRIPTION:Whether you are thinking about starting your own business or already have a business\, this workshop series is designed for you.  The Garland Chamber is pleased to present a series of informative workshops that will provide you with ideas you can use in your business that will cost you little or nothing to implement.
X-ALT-DESC;FMTTYPE=text/html:<p class="MsoNormal" style="MARGIN: 0in 0in 0pt"><span lang="EN" style="COLOR: #2e1995\; FONT-FAMILY: Arial\; mso-ansi-language: EN"><font color="#000000"><font face="Tahoma"><font size="3"><i style="mso-bidi-font-style: normal"><span style="FONT-SIZE: 9pt\; FONT-FAMILY: Arial">Whether you are thinking about starting your own business or already have a business\, this workshop series is designed for you.<span style="mso-spacerun: yes">&nbsp\; </span>The </span></i><!--?xml:namespace prefix = st1 ns = "urn:schemas-microsoft-com:office:smarttags" /--><st1:city><st1:place><i style="mso-bidi-font-style: normal"><span style="FONT-SIZE: 9pt\; FONT-FAMILY: Arial">Garland</span></i></st1:place></st1:city><i style="mso-bidi-font-style: normal"><span style="FONT-SIZE: 9pt\; FONT-FAMILY: Arial"> Chamber is pleased to present a series of informative workshops that will provide you with ideas you can use in your business that will cost you little or nothing to implement.<span style="mso-spacerun: yes">&nbsp\; </span><!--?xml:namespace prefix = o ns = "urn:schemas-microsoft-com:office:office" /--><o:p></o:p></span></i></font></font></font></span></p>\n\n<p align="center" class="MsoNormal" style="MARGIN: 0in 0in 0pt\; TEXT-ALIGN: center">&nbsp\;</p>\n\n<p align="center" class="MsoNormal" style="MARGIN: 0in 0in 0pt\; TEXT-ALIGN: center">&nbsp\;</p>\n\n<p align="center" class="MsoNormal" style="MARGIN: 0in 0in 0pt\; TEXT-ALIGN: center">&nbsp\;</p>\n
LOCATION:Richland College Garland Campus
UID:e.2096.335
SEQUENCE:3
DTSTAMP:20260426T001820Z
URL:https://network.garlandchamber.com/events/details/6-steps-to-a-sucessful-business-in-2007-11-07-2006-335
END:VEVENT

END:VCALENDAR
