BEGIN:VCALENDAR
VERSION:2.0
PRODID:-//ChamberMaster//Event Calendar 2.0//EN
METHOD:PUBLISH
X-PUBLISHED-TTL:P3D
REFRESH-INTERVAL:P3D
CALSCALE:GREGORIAN
BEGIN:VEVENT
DTSTART:20150416T150000Z
DTEND:20150416T190000Z
X-MICROSOFT-CDO-ALLDAYEVENT:FALSE
SUMMARY:6th Annual Business Expo (2015)
DESCRIPTION:The Garland Chamber of Commerce invites you to be a part of the 6th Annual Business Expo on April 16\, 2015 from 10 a.m. - 2 p.m. This exciting event brings local product and service providers under one roof for the community to browse all the best Garland has to offer. If you're looking to do business with local vendors\, find services to better meet the needs of your business or learn more about what the city of Garland has to offer\, you're sure to find a wealth of information and resources at the Garland Chamber's 6th Annual Business Expo.\n\nSponsored by: North Texas Fleet Services \n\nGiveaway Sponsored by: Northwestern Mutual\, Bo Saavedra\n\n\n\nInterested in participating as an exhibitor? Use the Register button above for online registration or the Exhibitor Registration button below to download the printable registration form. Once you've registered\, we invite you to help us drive more foot traffic to your Expo booth using the printable promotional poster below. You can also help us spread the word on social media using #GCCExpo15.
X-ALT-DESC;FMTTYPE=text/html:<p style="box-sizing: border-box\; margin: 1.06666666666667em 0px 0px\; font-size: 15.5555562973022px\; color: rgb(67\, 65\, 66)\; font-family: 'Nexa Book'\, Helvetica\, Arial\, Verdana\, serif\; line-height: 26.6666679382324px\;">The Garland Chamber of Commerce invites you to be a part of the 6th Annual Business Expo on April 16\, 2015 from 10 a.m. - 2 p.m. This exciting event brings local product and service providers under one roof for the community to browse&nbsp\;all the best Garland has to offer. If you&#39\;re looking to do business with local vendors\, find services to better meet the needs of your business or learn more about what the city of Garland has to offer\, you&#39\;re sure to find&nbsp\;a wealth of information and resources at the Garland Chamber&rsquo\;s 6th Annual Business Expo.</p>\n\n<p style="box-sizing: border-box\; margin: 1.06666666666667em 0px 0px\; font-size: 15.5555562973022px\; color: rgb(67\, 65\, 66)\; font-family: 'Nexa Book'\, Helvetica\, Arial\, Verdana\, serif\; line-height: 26.6666679382324px\;"><span style="box-sizing: border-box\; font-family: 'Nexa Bold'\, Helvetica\, Arial\, Verdana\, serif\;">Sponsored by:</span>&nbsp\;<a href="http://www.ntxfleet.com/" style="box-sizing: border-box\; color: rgb(14\, 133\, 158)\; font-family: 'Nexa Bold'\, Helvetica\, Arial\, Verdana\, serif\;" target="_blank">North Texas Fleet Services</a>&nbsp\;<br style="box-sizing: border-box\;" />\n<span style="box-sizing: border-box\; font-family: 'Nexa Bold'\, Helvetica\, Arial\, Verdana\, serif\;">Giveaway Sponsored by:</span>&nbsp\;<a href="http://bosaavedra.nm.com/" style="box-sizing: border-box\; color: rgb(14\, 133\, 158)\; font-family: 'Nexa Bold'\, Helvetica\, Arial\, Verdana\, serif\;" target="_blank">Northwestern Mutual\, Bo Saavedra</a><br style="box-sizing: border-box\;" />\n<br style="box-sizing: border-box\;" />\nInterested in participating as an exhibitor? Use the Register button above for online registration or the Exhibitor Registration button below to download the printable registration form. Once you&#39\;ve registered\, we invite you to help us drive more foot traffic to your Expo booth using the printable promotional poster below. You can also help us spread the word on social media using&nbsp\;<a href="https://twitter.com/hashtag/gccexpo15?f=realtime" style="box-sizing: border-box\; color: rgb(14\, 133\, 158)\; font-family: 'Nexa Bold'\, Helvetica\, Arial\, Verdana\, serif\;" target="_blank" title="Follow the Hashtag">#GCCExpo15</a>.</p>\n
LOCATION:Curtis Culwell Center 4999 Naaman Forest Blvd Garland\, TX 75040
UID:e.2096.2647
SEQUENCE:3
DTSTAMP:20260419T224730Z
URL:https://network.garlandchamber.com/events/details/6th-annual-business-expo-2015-04-16-2015-2647
END:VEVENT

END:VCALENDAR
