BEGIN:VCALENDAR
VERSION:2.0
PRODID:-//ChamberMaster//Event Calendar 2.0//EN
METHOD:PUBLISH
X-PUBLISHED-TTL:P3D
REFRESH-INTERVAL:P3D
CALSCALE:GREGORIAN
BEGIN:VEVENT
DTSTART:20120726T000000Z
DTEND:20120726T020000Z
X-MICROSOFT-CDO-ALLDAYEVENT:FALSE
SUMMARY:''7 Mistakes Job Seekers Make Online''
DESCRIPTION:
X-ALT-DESC;FMTTYPE=text/html:<DIV>&nbsp\;</DIV>
LOCATION:Career Design Offices
UID:e.2096.988
SEQUENCE:3
DTSTAMP:20260421T220804Z
URL:https://network.garlandchamber.com/events/details/7-mistakes-job-seekers-make-online-07-25-2012-988
END:VEVENT

END:VCALENDAR
