BEGIN:VCALENDAR
VERSION:2.0
PRODID:-//ChamberMaster//Event Calendar 2.0//EN
METHOD:PUBLISH
X-PUBLISHED-TTL:P3D
REFRESH-INTERVAL:P3D
CALSCALE:GREGORIAN
BEGIN:VEVENT
DTSTART:20070210T000000Z
DTEND:20070210T030000Z
X-MICROSOFT-CDO-ALLDAYEVENT:FALSE
SUMMARY:75th Annual Banquet (2007)
DESCRIPTION:This is an annual event\, where the Chamber presents the incoming Chairman to its members. During this elegant evening we also recognize the previous year?s awards recipients. The Chamber has been fortunate to present speakers like George W. Bush (Former Texas Governor & Current President of the U. S.)\, Dr. Jesus Carreon (Chancellor of DCCCD)\, and Ms. JoAnn Brumit- (President of KARLEE and the 2000 Malcolm Baldrige Award Recipient)
X-ALT-DESC;FMTTYPE=text/html:<div style="font-family: Arial\;">\n<p class="MsoNormal" style="margin: 0in 0in 0pt\;"><span style="font-family: &quot\;Arial Narrow&quot\;\; font-size: 12pt\; mso-bidi-font-family: Arial\;">This is an annual event\, where the Chamber presents the incoming Chairman to its members. During this elegant evening we also recognize the previous year?s awards recipients. The Chamber has been fortunate to present speakers like George W. Bush (Former Texas Governor &amp\; Current President of the </span><!--?xml:namespace prefix = st1 ns = "urn:schemas-microsoft-com:office:smarttags" /--><st1:country-region><st1:place><span style="font-family: &quot\;Arial Narrow&quot\;\; font-size: 12pt\; mso-bidi-font-family: Arial\;">U. S.</span></st1:place></st1:country-region><span style="font-family: &quot\;Arial Narrow&quot\;\; font-size: 12pt\; mso-bidi-font-family: Arial\;">)\, Dr. Jesus Carreon (Chancellor of DCCCD)\, and Ms. JoAnn Brumit- (President of KARLEE and the 2000 Malcolm Baldrige Award Recipient)<!--?xml:namespace prefix = o ns = "urn:schemas-microsoft-com:office:office" /--><o:p></o:p></span></p>\n</div>\n
LOCATION:The Atrium at the Granville Arts Center
UID:e.2096.334
SEQUENCE:3
DTSTAMP:20260425T174749Z
URL:https://network.garlandchamber.com/events/details/75th-annual-banquet-2007-02-09-2007-334
END:VEVENT

END:VCALENDAR
