BEGIN:VCALENDAR
VERSION:2.0
PRODID:-//ChamberMaster//Event Calendar 2.0//EN
METHOD:PUBLISH
X-PUBLISHED-TTL:P3D
REFRESH-INTERVAL:P3D
CALSCALE:GREGORIAN
BEGIN:VEVENT
DTSTART:20080119T000000Z
DTEND:20080119T030000Z
X-MICROSOFT-CDO-ALLDAYEVENT:FALSE
SUMMARY:76th Annual Banquet (2008)
DESCRIPTION:
X-ALT-DESC;FMTTYPE=text/html:
LOCATION:The Atrium at the Granville Arts Center
UID:e.2096.470
SEQUENCE:3
DTSTAMP:20260425T032245Z
URL:https://network.garlandchamber.com/events/details/76th-annual-banquet-2008-01-18-2008-470
END:VEVENT

END:VCALENDAR
